BEGIN:VCALENDAR
VERSION:2.0
PRODID:-// - ECPv6.15.20//NONSGML v1.0//EN
CALSCALE:GREGORIAN
METHOD:PUBLISH
X-ORIGINAL-URL:https://therocksportsbarandgrille.com
X-WR-CALDESC:Events for 
REFRESH-INTERVAL;VALUE=DURATION:PT1H
X-Robots-Tag:noindex
X-PUBLISHED-TTL:PT1H
BEGIN:VTIMEZONE
TZID:UTC
BEGIN:STANDARD
TZOFFSETFROM:+0000
TZOFFSETTO:+0000
TZNAME:UTC
DTSTART:20250101T000000
END:STANDARD
END:VTIMEZONE
BEGIN:VEVENT
DTSTART;TZID=UTC:20260404T190000
DTEND;TZID=UTC:20260404T230000
DTSTAMP:20260423T160759
CREATED:20260126T194701Z
LAST-MODIFIED:20260126T194702Z
UID:10003964-1775329200-1775343600@therocksportsbarandgrille.com
SUMMARY:Monthly Luck of the Draw Partners Dart Series
DESCRIPTION:
URL:https://therocksportsbarandgrille.com/event/monthly-luck-of-the-draw-partners-dart-series-2/2026-04-04/
END:VEVENT
END:VCALENDAR