BEGIN:VCALENDAR
VERSION:2.0
PRODID:-// - ECPv6.15.20//NONSGML v1.0//EN
CALSCALE:GREGORIAN
METHOD:PUBLISH
X-ORIGINAL-URL:https://therocksportsbarandgrille.com
X-WR-CALDESC:Events for 
REFRESH-INTERVAL;VALUE=DURATION:PT1H
X-Robots-Tag:noindex
X-PUBLISHED-TTL:PT1H
BEGIN:VTIMEZONE
TZID:UTC
BEGIN:STANDARD
TZOFFSETFROM:+0000
TZOFFSETTO:+0000
TZNAME:UTC
DTSTART:20250101T000000
END:STANDARD
END:VTIMEZONE
BEGIN:VEVENT
DTSTART;TZID=UTC:20260402T110000
DTEND;TZID=UTC:20260402T140000
DTSTAMP:20260423T160705
CREATED:20231019T160737Z
LAST-MODIFIED:20251112T182831Z
UID:10001104-1775127600-1775138400@therocksportsbarandgrille.com
SUMMARY:LUNCH SPECIAL
DESCRIPTION:
URL:https://therocksportsbarandgrille.com/event/lunch-special/2026-04-02/
END:VEVENT
BEGIN:VEVENT
DTSTART;TZID=UTC:20260402T190000
DTEND;TZID=UTC:20260402T210000
DTSTAMP:20260423T160705
CREATED:20241220T182945Z
LAST-MODIFIED:20251112T182708Z
UID:10002922-1775156400-1775163600@therocksportsbarandgrille.com
SUMMARY:America's Pub Quiz Free Trivia
DESCRIPTION:
URL:https://therocksportsbarandgrille.com/event/americas-pub-quiz-free-trivia-2/2026-04-02/
END:VEVENT
END:VCALENDAR